BEGIN:VCALENDAR
VERSION:2.0
PRODID:-//Plaridel Lodge #302 - ECPv6.15.15//NONSGML v1.0//EN
CALSCALE:GREGORIAN
METHOD:PUBLISH
X-WR-CALNAME:Plaridel Lodge #302
X-ORIGINAL-URL:https://plaridel302.org
X-WR-CALDESC:Events for Plaridel Lodge #302
REFRESH-INTERVAL;VALUE=DURATION:PT1H
X-Robots-Tag:noindex
X-PUBLISHED-TTL:PT1H
BEGIN:VTIMEZONE
TZID:UTC
BEGIN:STANDARD
TZOFFSETFROM:+0000
TZOFFSETTO:+0000
TZNAME:UTC
DTSTART:20240101T000000
END:STANDARD
END:VTIMEZONE
BEGIN:VEVENT
DTSTART;VALUE=DATE:20251104
DTEND;VALUE=DATE:20251107
DTSTAMP:20260422T110719
CREATED:20250127T184954Z
LAST-MODIFIED:20250127T184954Z
UID:449-1762214400-1762473599@plaridel302.org
SUMMARY:Grand Lodge of New Jersey Annual Communication
DESCRIPTION:
URL:https://plaridel302.org/event/grand-lodge-of-new-jersey-annual-communication/
CATEGORIES:Grand Lodge Events
END:VEVENT
END:VCALENDAR