BEGIN:VCALENDAR
VERSION:2.0
PRODID:-//Plaridel Lodge #302 - ECPv6.15.15//NONSGML v1.0//EN
CALSCALE:GREGORIAN
METHOD:PUBLISH
X-WR-CALNAME:Plaridel Lodge #302
X-ORIGINAL-URL:https://plaridel302.org
X-WR-CALDESC:Events for Plaridel Lodge #302
REFRESH-INTERVAL;VALUE=DURATION:PT1H
X-Robots-Tag:noindex
X-PUBLISHED-TTL:PT1H
BEGIN:VTIMEZONE
TZID:UTC
BEGIN:STANDARD
TZOFFSETFROM:+0000
TZOFFSETTO:+0000
TZNAME:UTC
DTSTART:20240101T000000
END:STANDARD
END:VTIMEZONE
BEGIN:VEVENT
DTSTART;TZID=UTC:20250208T160000
DTEND;TZID=UTC:20250208T233000
DTSTAMP:20260424T124215
CREATED:20250127T184134Z
LAST-MODIFIED:20250127T184134Z
UID:445-1739030400-1739057400@plaridel302.org
SUMMARY:Junior Grand Warden’s Reception
DESCRIPTION:
URL:https://plaridel302.org/event/junior-grand-wardens-reception/
CATEGORIES:Grand Lodge Events
ATTACH;FMTTYPE=image/jpeg:https://plaridel302.org/wp-content/uploads/2025/01/IMG_3242.jpeg
END:VEVENT
END:VCALENDAR