BEGIN:VCALENDAR
VERSION:2.0
PRODID:-//Plaridel Lodge #302 - ECPv6.15.15//NONSGML v1.0//EN
CALSCALE:GREGORIAN
METHOD:PUBLISH
X-WR-CALNAME:Plaridel Lodge #302
X-ORIGINAL-URL:https://plaridel302.org
X-WR-CALDESC:Events for Plaridel Lodge #302
REFRESH-INTERVAL;VALUE=DURATION:PT1H
X-Robots-Tag:noindex
X-PUBLISHED-TTL:PT1H
BEGIN:VTIMEZONE
TZID:UTC
BEGIN:STANDARD
TZOFFSETFROM:+0000
TZOFFSETTO:+0000
TZNAME:UTC
DTSTART:20250101T000000
END:STANDARD
END:VTIMEZONE
BEGIN:VEVENT
DTSTART;VALUE=DATE:20260421
DTEND;VALUE=DATE:20260422
DTSTAMP:20260421T014615
CREATED:20251222T160251Z
LAST-MODIFIED:20251222T160251Z
UID:649-1776729600-1776815999@plaridel302.org
SUMMARY:ANNUAL CHARITY AND FEEDING EVENT FOR UNDERPRIVILEGED
DESCRIPTION:Plaridel Lodge No. 302\, F.& A.M. \nGrand Lodge of New Jersey \n‘SHARING ALWAYS \n‘SHARING ALWAYS SHOWS CARING’ \nAN ANNUAL CHARITY AND FEEDING EVENT FOR UNDERPRIVILEGED CHILDREN \nSchool supplies giving for Kindergarten and Elementary \nSchool Students \nLuis Ferrer Ill Memorial \nElementary School \nPinagtipunan\, \nGeneral Trias\, Cavite\, \nPhilippines \nIn coordination with \nGov. Luis Olimpo Ferrer Sr. \nMasonic Lodge 366
URL:https://plaridel302.org/event/annual-charity-and-feeding-event-for-underprivileged/
CATEGORIES:Lodge Events
ATTACH;FMTTYPE=image/jpeg:https://plaridel302.org/wp-content/uploads/2025/12/568cab042a184bf862d65dd6c8b95959.jpeg
END:VEVENT
END:VCALENDAR